BEGIN:VCALENDAR
VERSION:2.0
PRODID:gruene-lahntal.de
METHOD:PUBLISH
BEGIN:VTIMEZONE
TZID:Europe/Berlin
X-LIC-LOCATION:Europe/Berlin
BEGIN:DAYLIGHT
TZOFFSETFROM:+0100
TZOFFSETTO:+0200
TZNAME:CEST
DTSTART:19700329T020000
RRULE:FREQ=YEARLY;INTERVAL=1;BYDAY=-1SU;BYMONTH=3
END:DAYLIGHT
BEGIN:STANDARD
TZOFFSETFROM:+0200
TZOFFSETTO:+0100
TZNAME:CET
DTSTART:19701025T030000
RRULE:FREQ=YEARLY;INTERVAL=1;BYDAY=-1SU;BYMONTH=10
END:STANDARD
END:VTIMEZONE
BEGIN:VEVENT
UID:88f14b3905876cc7573facbd2f57760d@gruene-lahntal.de
URL;VALUE=URI:https://gruene-lahntal.de/termine/gemeindevertretersitzung-
 3/
LOCATION:Sitzungssaal Gemeindeverwaltung, Oberdorfer Straße 1, Lahntal
SUMMARY:Gemeindevertretersitzung
DESCRIPTION;ALTREP="data:text/html,%0A%3Cp%3E%C3%96ffentliche%20Sitzung%3
 C%2Fp%3E%0A":Öffentliche Sitzung
CLASS:PUBLIC
DTSTART;TZID=Europe/Berlin:20260625T200000
DTEND;TZID=Europe/Berlin:20260625T220000
DTSTAMP:20260421T111933
END:VEVENT
END:VCALENDAR