BEGIN:VCALENDAR
VERSION:2.0
PRODID:gruene-lahntal.de
METHOD:PUBLISH
BEGIN:VTIMEZONE
TZID:Europe/Berlin
X-LIC-LOCATION:Europe/Berlin
BEGIN:DAYLIGHT
TZOFFSETFROM:+0100
TZOFFSETTO:+0200
TZNAME:CEST
DTSTART:19700329T020000
RRULE:FREQ=YEARLY;INTERVAL=1;BYDAY=-1SU;BYMONTH=3
END:DAYLIGHT
BEGIN:STANDARD
TZOFFSETFROM:+0200
TZOFFSETTO:+0100
TZNAME:CET
DTSTART:19701025T030000
RRULE:FREQ=YEARLY;INTERVAL=1;BYDAY=-1SU;BYMONTH=10
END:STANDARD
END:VTIMEZONE
BEGIN:VEVENT
UID:def4a5f1d05e2c6499b73566a9ef4ef9@gruene-lahntal.de
URL;VALUE=URI:https://gruene-lahntal.de/termine/ausschusssitzungen-12/
LOCATION:Sitzungssaal Gemeindeverwaltung, Oberdorfer Straße 1, Lahntal
SUMMARY:Ausschusssitzungen
DESCRIPTION;ALTREP="data:text/html,%0A%3Cp%3E%C3%96ffentliche%20Sitzungen
 %3C%2Fp%3E%0A":Öffentliche Sitzungen
CLASS:PUBLIC
DTSTART;TZID=Europe/Berlin:20260812T190000
DTEND;TZID=Europe/Berlin:20260812T210000
DTSTAMP:20260421T115146
END:VEVENT
END:VCALENDAR